BEGIN:VCALENDAR
VERSION:2.0
PRODID:-//WordPress//ACF ICS Export//DE
CALSCALE:GREGORIAN
METHOD:PUBLISH
BEGIN:VEVENT
UID:69e9eaf63d4d48.41696313@ihv-tgb.ch
DTSTAMP:20260423T114838
DTSTART:20251030T080000
DTEND:20251128T170000
SUMMARY:Einladung zur Mitwirkung Gesamtverkehrsprojekt Oensingen
DESCRIPTION:ln enger Zusammenarbeit haben die Gemeinde Oensingen und der Kanton Solothurn das Gesamtverkehrsprojekt Oensingen erarbeitet. Gerne laden wir Sie zur Mitwirkung ein.
END:VEVENT
END:VCALENDAR
