BEGIN:VCALENDAR
VERSION:2.0
PRODID:-//WordPress//ACF ICS Export//DE
CALSCALE:GREGORIAN
METHOD:PUBLISH
BEGIN:VEVENT
UID:69e9e885042031.77061152@ihv-tgb.ch
DTSTAMP:20260423T113813
DTSTART:20260428T153000
DTEND:20260428T210000
SUMMARY:Oltner Wirtschaftsforum 2026 – «Mut. Macht. Möglich.»
DESCRIPTION:
END:VEVENT
END:VCALENDAR
